Workbook

Sheet Assumptions
A1: Sava Industrial Co.Ltd — LBO Model Assumptions
A2: PE buyout candidate | Aurora Capital Partners (sponsor) | LTM FY2023A aligned with Demo #1 | USD ($M)
A4: DEAL OVERVIEW
A5: Target Company | B5: Sava Industrial Co.Ltd
A6: Sponsor | B6: Aurora Capital Partners
A7: Close Date | B7: 01-Jan-2025
A8: Hold Period (Years) | B8: 5
A9: Exit Date | B9: 31-Dec-2029
A11: LTM OPERATING — FY2023A (Demo #1)
A12: Revenue (LTM) | B12: 480
A13: EBITDA (LTM) | B13: 110.4
A14: D&A (LTM) | B14: 34.9
A15: EBITDA Margin (LTM) | B15: =B13/B12
A17: TRANSACTION & VALUATION
A18: Entry EV / EBITDA Multiple | B18: 8
A19: Exit EV / EBITDA Multiple | B19: 9
A20: Entry Enterprise Value | B20: =B18*B13
A21: Cash (pre-transaction) | B21: 45
A22: Existing Debt (refinanced at close) | B22: 100
A23: Net Debt (pre-transaction) | B23: =B22-B21
A24: Implied Equity Value (Entry) | B24: =B20-B23
A25: Transaction Fees (% of EV) | B25: 0.02
A26: Transaction Fees ($M) | B26: =B20*B25
A27: Management Rollover (% of Sponsor Equity) | B27: 0.05
A29: OPERATING DRIVERS — FORECAST (Y1–Y5)
A30: Revenue Growth (Y1–Y5, each year) | B30: 0.05
A31: EBITDA Margin (forecast) | B31: 0.235
A32: D&A (% of Revenue) | B32: 0.073
A33: CapEx (% of Revenue) | B33: 0.04
A34: ΔNWC (% of Revenue Growth) | B34: 0.1
A35: Tax Rate | B35: 0.25
A37: DEBT FINANCING — TRANCHES AT CLOSE
A38: SOFR / Base Rate | B38: 0.05
A39: Term Loan A — Amount | B39: 200
A40: Term Loan A — Spread | B40: 0.0275
A41: Term Loan A — Mandatory Amort (%/yr) | B41: 0.05
A43: Term Loan B — Amount | B43: 380
A44: Term Loan B — Spread | B44: 0.045
A45: Term Loan B — Mandatory Amort (%/yr) | B45: 0.01
A47: Mezzanine — Amount | B47: 120
...

Sheet Sources & Uses
A1: Sources & Uses — Transaction Close
A2: Sava Industrial Co.Ltd LBO | Aurora Capital Partners
B4: Amount ($M) | C4: Notes
A5: USES OF FUNDS
A6: Purchase Equity (Entry) | B6: =Assumptions!B24 | C6: EV − net debt
A7: Refinance Existing Debt | B7: =Assumptions!B22 | C7: Repay legacy term debt
A8: Transaction Fees | B8: =Assumptions!B26
A9: Fund Minimum Cash (post-close) | B9: =Assumptions!B56
A10: Total Uses | B10: =SUM(B6:B9)
A12: SOURCES OF FUNDS
A13: Term Loan A | B13: =Assumptions!B39
A14: Term Loan B | B14: =Assumptions!B43
A15: Mezzanine | B15: =Assumptions!B47
A16: Sponsor Equity (plug) | B16: =B10-B13-B14-B15 | C16: Aurora Capital primary equity
A17: Management Rollover Equity | B17: =B16*Assumptions!B27/(1-Assumptions!B27) | C17: Mgmt co-invest (reduces sponsor check)
A18: Sponsor Net Equity (post-rollover) | B18: =B16-B17
A19: Total Sources | B19: =B13+B14+B15+B16
A21: Sources − Uses (check) | B21: =B19-B10

Sheet Operating Model
A1: Operating Model — Sava Industrial (Post-LBO)
A2: Year 0 = LTM stub; Years 1–5 = hold-period forecast
A4: USD ($M) | B4: Year 0 | C4: Year 1 | D4: Year 2 | E4: Year 3 | F4: Year 4 | G4: Year 5
A5: Period End | B5: 31-Dec-24 | C5: 31-Dec-25 | D5: 31-Dec-26 | E5: 31-Dec-27 | F5: 31-Dec-28 | G5: 31-Dec-29
A6: Revenue | B6: =Assumptions!B12 | C6: =C6*(1+Assumptions!$B$30) | D6: =D6*(1+Assumptions!$B$30) | E6: =E6*(1+Assumptions!$B$30) | F6: =F6*(1+Assumptions!$B$30) | G6: =G6*(1+Assumptions!$B$30)
A7: EBITDA | B7: =Assumptions!B13 | C7: =C6*Assumptions!$B$31 | D7: =D6*Assumptions!$B$31 | E7: =E6*Assumptions!$B$31 | F7: =F6*Assumptions!$B$31 | G7: =G6*Assumptions!$B$31
A8: EBITDA Margin | B8: =IF(B6=0,0,B7/B6) | C8: =IF(C6=0,0,C7/C6) | D8: =IF(D6=0,0,D7/D6) | E8: =IF(E6=0,0,E7/E6) | F8: =IF(F6=0,0,F7/F6) | G8: =IF(G6=0,0,G7/G6)
A9: D&A | B9: =Assumptions!B14 | C9: =C6*Assumptions!$B$32 | D9: =D6*Assumptions!$B$32 | E9: =E6*Assumptions!$B$32 | F9: =F6*Assumptions!$B$32 | G9: =G6*Assumptions!$B$32
A10: EBIT | B10: =B7-B9 | C10: =C7-C9 | D10: =D7-D9 | E10: =E7-E9 | F10: =F7-F9 | G10: =G7-G9
A11: Taxes on EBIT | B11: =MAX(0,B10)*Assumptions!$B$35 | C11: =MAX(0,C10)*Assumptions!$B$35 | D11: =MAX(0,D10)*Assumptions!$B$35 | E11: =MAX(0,E10)*Assumptions!$B$35 | F11: =MAX(0,F10)*Assumptions!$B$35 | G11: =MAX(0,G10)*Assumptions!$B$35
A12: NOPAT (EBIT − Tax) | B12: =B10-B11 | C12: =C10-C11 | D12: =D10-D11 | E12: =E10-E11 | F12: =F10-F11 | G12: =G10-G11
A14: UNLEVERED FREE CASH FLOW BUILD
A15: CapEx | B15: =B6*Assumptions!$B$33 | C15: =C6*Assumptions!$B$33 | D15: =D6*Assumptions!$B$33 | E15: =E6*Assumptions!$B$33 | F15: =F6*Assumptions!$B$33 | G15: =G6*Assumptions!$B$33
A16: Δ Net Working Capital | B16: 0 | C16: =(C6-C6)*Assumptions!$B$34 | D16: =(D6-D6)*Assumptions!$B$34 | E16: =(E6-E6)*Assumptions!$B$34 | F16: =(F6-F6)*Assumptions!$B$34 | G16: =(G6-G6)*Assumptions!$B$34
A17: Unlevered FCF (EBITDA − Tax − CapEx − ΔNWC) | B17: =B7-B11-B15-B16 | C17: =C7-C11-C15-C16 | D17: =D7-D11-D15-D16 | E17: =E7-E11-E15-E16 | F17: =F7-F11-F15-F16 | G17: =G7-G11-G15-G16

Sheet Debt Schedule
A1: Debt Schedule — TLA / TLB / Mezzanine
A2: Mandatory amort + optional cash sweep prepayments
A4: USD ($M) | B4: Year 0 | C4: Year 1 | D4: Year 2 | E4: Year 3 | F4: Year 4 | G4: Year 5
A5: Period End | B5: 31-Dec-24 | C5: 31-Dec-25 | D5: 31-Dec-26 | E5: 31-Dec-27 | F5: 31-Dec-28 | G5: 31-Dec-29
A6: TERM LOAN A (Senior)
A7: Beginning Balance | B7: ='Sources & Uses'!B13 | C7: =C13 | D7: =D13 | E7: =E13 | F7: =F13 | G7: =G13
A8: Mandatory Amortization | B8: 0 | C8: =C7*Assumptions!$B$41 | D8: =D7*Assumptions!$B$41 | E8: =E7*Assumptions!$B$41 | F8: =F7*Assumptions!$B$41 | G8: =G7*Assumptions!$B$41
A9: Cash Sweep Prepayment | B9: 0 | C9: ='Cash Flow'!C16 | D9: ='Cash Flow'!D16 | E9: ='Cash Flow'!E16 | F9: ='Cash Flow'!F16 | G9: ='Cash Flow'!G16
A10: Total Principal Repayment | B10: =B8+B9 | C10: =C8+C9 | D10: =D8+D9 | E10: =E8+E9 | F10: =F8+F9 | G10: =G8+G9
A11: All-in Cash Rate | B11: =$B$11 | C11: =$B$11 | D11: =$B$11 | E11: =$B$11 | F11: =$B$11 | G11: =$B$11
A12: Cash Interest Expense | B12: 0 | C12: =C7*C11 | D12: =D7*D11 | E12: =E7*E11 | F12: =F7*F11 | G12: =G7*G11
A13: Ending Balance | B13: =B7 | C13: =MAX(0,C7-C10) | D13: =MAX(0,D7-D10) | E13: =MAX(0,E7-E10) | F13: =MAX(0,F7-F10) | G13: =MAX(0,G7-G10)
A15: TERM LOAN B (Senior Sub / Bullet-leaning)
A16: Beginning Balance | B16: ='Sources & Uses'!B14 | C16: =C22 | D16: =D22 | E16: =E22 | F16: =F22 | G16: =G22
A17: Mandatory Amortization | B17: 0 | C17: =C16*Assumptions!$B$45 | D17: =D16*Assumptions!$B$45 | E17: =E16*Assumptions!$B$45 | F17: =F16*Assumptions!$B$45 | G17: =G16*Assumptions!$B$45
A18: Cash Sweep Prepayment | B18: 0 | C18: ='Cash Flow'!C14 | D18: ='Cash Flow'!D14 | E18: ='Cash Flow'!E14 | F18: ='Cash Flow'!F14 | G18: ='Cash Flow'!G14
A19: Total Principal Repayment | B19: =B17+B18 | C19: =C17+C18 | D19: =D17+D18 | E19: =E17+E18 | F19: =F17+F18 | G19: =G17+G18
A20: All-in Cash Rate | B20: =$B$20 | C20: =$B$20 | D20: =$B$20 | E20: =$B$20 | F20: =$B$20 | G20: =$B$20
A21: Cash Interest Expense | B21: 0 | C21: =C16*C20 | D21: =D16*D20 | E21: =E16*E20 | F21: =F16*F20 | G21: =G16*G20
A22: Ending Balance | B22: =B16 | C22: =MAX(0,C16-C19) | D22: =MAX(0,D16-D19) | E22: =MAX(0,E16-E19) | F22: =MAX(0,F16-F19) | G22: =MAX(0,G16-G19)
A24: MEZZANINE
A25: Beginning Balance | B25: ='Sources & Uses'!B15 | C25: =C31 | D25: =D31 | E25: =E31 | F25: =F31 | G25: =G31
A26: Mandatory Amortization | B26: 0 | C26: =C25*Assumptions!$B$49 | D26: =D25*Assumptions!$B$49 | E26: =E25*Assumptions!$B$49 | F26: =F25*Assumptions!$B$49 | G26: =G25*Assumptions!$B$49
A27: Cash Sweep Prepayment | B27: 0 | C27: ='Cash Flow'!C18 | D27: ='Cash Flow'!D18 | E27: ='Cash Flow'!E18 | F27: ='Cash Flow'!F18 | G27: ='Cash Flow'!G18
A28: Total Principal Repayment | B28: =B26+B27 | C28: =C26+C27 | D28: =D26+D27 | E28: =E26+E27 | F28: =F26+F27 | G28: =G26+G27
A29: All-in Cash Rate | B29: =$B$29 | C29: =$B$29 | D29: =$B$29 | E29: =$B$29 | F29: =$B$29 | G29: =$B$29
A30: Cash Interest Expense | B30: 0 | C30: =C25*C29 | D30: =D25*D29 | E30: =E25*E29 | F30: =F25*F29 | G30: =G25*G29
A31: Ending Balance | B31: =B25 | C31: =MAX(0,C25-C28) | D31: =MAX(0,D25-D28) | E31: =MAX(0,E25-E28) | F31: =MAX(0,F25-F28) | G31: =MAX(0,G25-G28)
A33: TOTAL DEBT SUMMARY
A34: Total Debt — Beginning | B34: =B7+B16+B25 | C34: =C7+C16+C25 | D34: =D7+D16+D25 | E34: =E7+E16+E25 | F34: =F7+F16+F25 | G34: =G7+G16+G25
A35: Total Cash Interest | B35: =B12+B21+B30 | C35: =C12+C21+C30 | D35: =D12+D21+D30 | E35: =E12+E21+E30 | F35: =F12+F21+F30 | G35: =G12+G21+G30
A36: Total Principal Repayment | B36: =B10+B19+B28 | C36: =C10+C19+C28 | D36: =D10+D19+D28 | E36: =E10+E19+E28 | F36: =F10+F19+F28 | G36: =G10+G19+G28
A37: Total Debt — Ending | B37: =B13+B22+B31 | C37: =C13+C22+C31 | D37: =D13+D22+D31 | E37: =E13+E22+E31 | F37: =F13+F22+F31 | G37: =G13+G22+G31
A38: EBITDA / Cash Interest (Interest Coverage) | B38: =IF(B35=0,0,'Operating Model'!B7/B35) | C38: =IF(C35=0,0,'Operating Model'!C7/C35) | D38: =IF(D35=0,0,'Operating Model'!D7/D35) | E38: =IF(E35=0,0,'Operating Model'!E7/E35) | F38: =IF(F35=0,0,'Operating Model'!F7/F35) | G38: =IF(G35=0,0,'Operating Model'!G7/G35)

Sheet Cash Flow
A1: Cash Flow — Levered FCF & Cash Sweep
A2: Excess cash after mandatory debt service swept to prepay TLB → TLA → Mezz
A4: USD ($M) | B4: Year 0 | C4: Year 1 | D4: Year 2 | E4: Year 3 | F4: Year 4 | G4: Year 5
A5: Period End | B5: 31-Dec-24 | C5: 31-Dec-25 | D5: 31-Dec-26 | E5: 31-Dec-27 | F5: 31-Dec-28 | G5: 31-Dec-29
A6: Unlevered FCF (from Operating Model) | B6: ='Operating Model'!B17 | C6: ='Operating Model'!C17 | D6: ='Operating Model'!D17 | E6: ='Operating Model'!E17 | F6: ='Operating Model'!F17 | G6: ='Operating Model'!G17
A7: Less: Mandatory Amortization (all tranches) | B7: 0 | C7: ='Debt Schedule'!C8+'Debt Schedule'!C17+'Debt Schedule'!C26 | D7: ='Debt Schedule'!D8+'Debt Schedule'!D17+'Debt Schedule'!D26 | E7: ='Debt Schedule'!E8+'Debt Schedule'!E17+'Debt Schedule'!E26 | F7: ='Debt Schedule'!F8+'Debt Schedule'!F17+'Debt Schedule'!F26 | G7: ='Debt Schedule'!G8+'Debt Schedule'!G17+'Debt Schedule'!G26
A8: Less: Cash Interest (all tranches) | B8: 0 | C8: ='Debt Schedule'!C12+'Debt Schedule'!C21+'Debt Schedule'!C30 | D8: ='Debt Schedule'!D12+'Debt Schedule'!D21+'Debt Schedule'!D30 | E8: ='Debt Schedule'!E12+'Debt Schedule'!E21+'Debt Schedule'!E30 | F8: ='Debt Schedule'!F12+'Debt Schedule'!F21+'Debt Schedule'!F30 | G8: ='Debt Schedule'!G12+'Debt Schedule'!G21+'Debt Schedule'!G30
A9: Levered FCF (before optional sweep) | B9: =B6-B7-B8 | C9: =C6-C7-C8 | D9: =D6-D7-D8 | E9: =E6-E7-E8 | F9: =F6-F7-F8 | G9: =G6-G7-G8
A10: Excess Cash (above minimum balance target) | B10: 0 | C10: =MAX(0,C9-Assumptions!$B$56) | D10: =MAX(0,D9-Assumptions!$B$56) | E10: =MAX(0,E9-Assumptions!$B$56) | F10: =MAX(0,F9-Assumptions!$B$56) | G10: =MAX(0,G9-Assumptions!$B$56)
A11: Cash Sweep Amount | B11: 0 | C11: =C10*Assumptions!$B$55 | D11: =D10*Assumptions!$B$55 | E11: =E10*Assumptions!$B$55 | F11: =F10*Assumptions!$B$55 | G11: =G10*Assumptions!$B$55
A13: SWEEP ALLOCATION (TLB → TLA → MEZZ)
A14: TLB Cash Sweep Prepayment | B14: 0 | C14: =MIN(C11,'Debt Schedule'!C16) | D14: =MIN(D11,'Debt Schedule'!D16) | E14: =MIN(E11,'Debt Schedule'!E16) | F14: =MIN(F11,'Debt Schedule'!F16) | G14: =MIN(G11,'Debt Schedule'!G16)
A15: Remaining Sweep after TLB | B15: 0 | C15: =MAX(0,C11-C14) | D15: =MAX(0,D11-D14) | E15: =MAX(0,E11-E14) | F15: =MAX(0,F11-F14) | G15: =MAX(0,G11-G14)
A16: TLA Cash Sweep Prepayment | B16: 0 | C16: =MIN(C15,'Debt Schedule'!C7) | D16: =MIN(D15,'Debt Schedule'!D7) | E16: =MIN(E15,'Debt Schedule'!E7) | F16: =MIN(F15,'Debt Schedule'!F7) | G16: =MIN(G15,'Debt Schedule'!G7)
A17: Remaining Sweep after TLA | B17: 0 | C17: =MAX(0,C15-C16) | D17: =MAX(0,D15-D16) | E17: =MAX(0,E15-E16) | F17: =MAX(0,F15-F16) | G17: =MAX(0,G15-G16)
A18: Mezz Cash Sweep Prepayment | B18: 0 | C18: =MIN(C17,'Debt Schedule'!C25) | D18: =MIN(D17,'Debt Schedule'!D25) | E18: =MIN(E17,'Debt Schedule'!E25) | F18: =MIN(F17,'Debt Schedule'!F25) | G18: =MIN(G17,'Debt Schedule'!G25)
A20: Ending Cash Balance | B20: =Assumptions!B56 | C20: =MAX(Assumptions!$B$56,C9-C11) | D20: =MAX(Assumptions!$B$56,D9-D11) | E20: =MAX(Assumptions!$B$56,E9-E11) | F20: =MAX(Assumptions!$B$56,F9-F11) | G20: =MAX(Assumptions!$B$56,G9-G11)

Sheet Returns Analysis
A1: Returns Analysis — Sponsor Equity (Aurora Capital)
A2: 5-year hold | IRR via XIRR | MOIC = total proceeds / sponsor net equity
A4: EXIT VALUATION (YEAR 5)
A5: Exit Year EBITDA | B5: ='Operating Model'!G7
A6: Exit Enterprise Value | B6: =B5*Assumptions!B19
A7: Net Debt at Exit | B7: ='Debt Schedule'!G37-'Cash Flow'!G20
A8: Equity Value at Exit | B8: =B6-B7
A10: SPONSOR CASH FLOW BRIDGE
A11: Sponsor Net Equity Invested (Year 0) | B11: ='Sources & Uses'!B18
A12: Sponsor Ownership (post-rollover) | B12: =1-Assumptions!B27
A13: Sponsor Proceeds at Exit | B13: =B8*B12
A15: USD ($M) | B15: Year 0 | C15: Year 1 | D15: Year 2 | E15: Year 3 | F15: Year 4 | G15: Year 5
A16: Period End | B16: 31-Dec-24 | C16: 31-Dec-25 | D16: 31-Dec-26 | E16: 31-Dec-27 | F16: 31-Dec-28 | G16: 31-Dec-29
A17: Cash Flow Dates | B17: 31-Dec-24 | C17: 31-Dec-25 | D17: 31-Dec-26 | E17: 31-Dec-27 | F17: 31-Dec-28 | G17: 31-Dec-29
A18: Sponsor Net Cash Flows ($M) | B18: =-'Sources & Uses'!B18 | C18: 0 | D18: 0 | E18: 0 | F18: 0 | G18: =B13
A20: Sponsor Gross IRR (XIRR) | B20: =XIRR(B18:G18,B17:G17)
A21: Sponsor MOIC | B21: =B13/B11
A23: VALUE CREATION BRIDGE
A24: Entry EV | B24: =Assumptions!B20
A25: EBITDA Growth (Exit − Entry LTM) | B25: =B5-Assumptions!B13
A26: Net Debt Reduction (Entry − Exit) | B26: =Assumptions!B23-B7
A27: Multiple Expansion (Exit − Entry) × Exit EBITDA | B27: =(Assumptions!B19-Assumptions!B18)*B5

Sheet Dashboard
A1: LBO Dashboard — Sava Industrial Co.Ltd
A2: Aurora Capital Partners | 5-Year Hold | USD ($M)
A4: DEAL SNAPSHOT
A5: Entry EV / EBITDA | B5: =Assumptions!B18
A6: Entry Enterprise Value | B6: =Assumptions!B20
A7: Total Debt at Close | B7: =Assumptions!B51
A8: Debt / LTM EBITDA | B8: =Assumptions!B52
A9: Sponsor Net Equity | B9: ='Sources & Uses'!B18
A10: Exit EV / EBITDA | B10: =Assumptions!B19
A11: Exit Enterprise Value | B11: ='Returns Analysis'!B6
A12: Net Debt at Exit | B12: ='Returns Analysis'!B7
A13: Sponsor IRR | B13: ='Returns Analysis'!B20
A14: Sponsor MOIC | B14: ='Returns Analysis'!B21
A16: FORECAST EBITDA & NET DEBT
B17: Year 1 | C17: Year 2 | D17: Year 3 | E17: Year 4 | F17: Year 5
A18: EBITDA | B18: ='Operating Model'!C7 | C18: ='Operating Model'!D7 | D18: ='Operating Model'!E7 | E18: ='Operating Model'!F7 | F18: ='Operating Model'!G7
A19: Net Debt | B19: ='Debt Schedule'!C37-'Cash Flow'!C20 | C19: ='Debt Schedule'!D37-'Cash Flow'!D20 | D19: ='Debt Schedule'!E37-'Cash Flow'!E20 | E19: ='Debt Schedule'!F37-'Cash Flow'!F20 | F19: ='Debt Schedule'!G37-'Cash Flow'!G20
